BEGIN:VCALENDAR
PRODID:-//Microsoft Corporation//Outlook 11.0 MIMEDIR//EN
VERSION:1.0
BEGIN:VEVENT
DTSTART:20260429T080000Z
DTEND:20260429T110000Z
UID:1
DESCRIPTION;ENCODING=QUOTED-PRINTABLE:=0D=0A=
=0D=0A=
=0D=0A=
Session 1: Should I start a podcast for my business?=0D=0A=
=0D=0A=
If you’ve been hearing about business podcasting and wondering whether it’s worth your time and investment—this session is for you.=0D=0A=
With podcast platforms increasingly saturated, it’s more important than ever to understand how to stand out and whether podcasting aligns with your business goals.=0D=0A=
=0D=0A=
=0D=0A=
What you’ll learn=0D=0A=
=0D=0A=
In this practical and interactive session, you will:=0D=0A=
=0D=0A=
    Understand the key differences between business podcasting and general podcasting=0D=0A=
    Learn the end-to-end process of producing a podcast=0D=0A=
    Discover how podcasting can support and grow your business=0D=0A=
    Identify the key considerations before starting your own podcast=0D=0A=
=0D=0A=
=0D=0A=
=0D=0A=
What you’ll gain=0D=0A=
=0D=0A=
By the end of the session, you will:=0D=0A=
=0D=0A=
    Have clarity on whether podcasting is right for your business=0D=0A=
    Be able to define a podcast concept that attracts your ideal audience=0D=0A=
    Understand the strategic approach needed to get your podcast heard=0D=0A=
    Gain confidence in taking the first steps toward launching a podcast=0D=0A=
=0D=0A=
=0D=0A=
=0D=0A=
Who is this for?=0D=0A=
=0D=0A=
This workshop is ideal for:=0D=0A=
=0D=0A=
    Small business owners and SMEs=0D=0A=
    Marketing professionals looking to expand their content strategy=0D=0A=
    Entrepreneurs exploring new audience engagement channels=0D=0A=
    Anyone considering launching a business podcast=0D=0A=
=0D=0A=
=0D=0A=
=0D=0A=
Session format=0D=0A=
=0D=0A=
This session includes:=0D=0A=
=0D=0A=
    Expert-led presentation=0D=0A=
    Guided personal exercises=0D=0A=
    Practical insights you can apply immediately=0D=0A=
=0D=0A=
=0D=0A=
=0D=0A=
Book your place=0D=0A=
=0D=0A=
Spaces are limited to ensure an interactive experience.=0D=0A=
Reserve your spot today and take the first step into business podcasting.=0D=0A=
=0D=0A=
Hosted by Andrew – Podcast Host & Producer=0D=0A=
=0D=0A=
Andrew is a Podcast Host and Producer based in Northampton, specialising in the Health and Wellness genre since 2020. Through this workshop series, Andrew will guide you through the fundamentals of business podcasting—helping you determine if it's right for your business and how to do it effectively.=0D=0A=
=0D=0A=
=0D=0A=
=0D=0A=
** Please note that we may share your personal data as appropriate with event partners and that by registering for this event you are agreeing to your information being shared with our event partners, Andrew Bond=0D=0A=
The personal data shared is as follows – Name/Email/Phone=0D=0A=
Should you not want your personal data to be shared, please email: samantha.hunter@southmidlands.org.uk=0D=0A=
 
SUMMARY;ENCODING=QUOTED-PRINTABLE:Business Podcasting 101: Should I start a podcast for my business?  Vulcan Works 
PRIORITY:1
END:VEVENT
END:VCALENDAR
