BEGIN:VCALENDAR
PRODID:-//Microsoft Corporation//Outlook 11.0 MIMEDIR//EN
VERSION:1.0
BEGIN:VEVENT
DTSTART:20260513T080000Z
DTEND:20260513T110000Z
UID:1
DESCRIPTION;ENCODING=QUOTED-PRINTABLE:=0D=0A=
=0D=0A=
Session 2: How to make a podcast for my customers=0D=0A=
=0D=0A=
=0D=0A=
You’ve decided podcasting could work for your business—now it’s time to shape a podcast your audience actually wants to listen to.=0D=0A=
In a crowded podcast landscape, success comes from having a clear concept, the right format, and content that truly connects with your ideal customers.=0D=0A=
=0D=0A=
=0D=0A=
What you’ll learn=0D=0A=
=0D=0A=
In this practical and interactive session, you will:=0D=0A=
=0D=0A=
    Explore the different categories of podcast formats=0D=0A=
    Learn how to choose the right format and concept for your target audience=0D=0A=
    Understand how to structure and template your episodes for consistency=0D=0A=
    Discover the key practical considerations for producing a regular podcast=0D=0A=
=0D=0A=
=0D=0A=
=0D=0A=
What you’ll gain=0D=0A=
=0D=0A=
By the end of the session, you will:=0D=0A=
=0D=0A=
    Have a clear podcast concept tailored to your ideal customer=0D=0A=
    Know which format best suits your business goals and content style=0D=0A=
    Be able to create a repeatable episode structure=0D=0A=
    Feel confident planning and producing a consistent podcast series=0D=0A=
=0D=0A=
=0D=0A=
=0D=0A=
Who is this for?=0D=0A=
=0D=0A=
This workshop is ideal for:=0D=0A=
=0D=0A=
    Small business owners and SMEs=0D=0A=
    Marketing professionals developing content strategies=0D=0A=
    Entrepreneurs ready to launch a business podcast=0D=0A=
    Anyone who has decided to start a podcast and needs direction on format and content=0D=0A=
=0D=0A=
=0D=0A=
=0D=0A=
Session format=0D=0A=
=0D=0A=
This session includes:=0D=0A=
=0D=0A=
    Expert-led presentation=0D=0A=
    Guided personal exercises=0D=0A=
    Practical insights you can apply immediately=0D=0A=
=0D=0A=
=0D=0A=
=0D=0A=
Book your place=0D=0A=
=0D=0A=
Spaces are limited to ensure an interactive experience.=0D=0A=
Reserve your spot today and start building a podcast your customers will want to listen to.=0D=0A=
=0D=0A=
=0D=0A=
=0D=0A=
** Please note that we may share your personal data as appropriate with event partners and that by registering for this event you are agreeing to your information being shared with our event partners, Andrew Bond=0D=0A=
The personal data shared is as follows – Name/Email/Phone=0D=0A=
Should you not want your personal data to be shared, please email: samantha.hunter@southmidlands.org.uk=0D=0A=
 
SUMMARY;ENCODING=QUOTED-PRINTABLE:Business Podcasting 101: How to make a podcast for my customers Vulcan Works 
PRIORITY:1
END:VEVENT
END:VCALENDAR
