BEGIN:VCALENDAR
PRODID:-//Microsoft Corporation//Outlook 11.0 MIMEDIR//EN
VERSION:1.0
BEGIN:VEVENT
DTSTART:20260708T080000Z
DTEND:20260708T110000Z
UID:1
DESCRIPTION;ENCODING=QUOTED-PRINTABLE:Session Title: Technical Podcast Production Skills=0D=0A=
You’ve got your podcast plan in place—now it’s time to bring it to life.=0D=0A=
This hands-on workshop takes place at the Vulcan Works Podcasting Studio and is designed to give you the practical skills needed to record, edit, and produce a professional-quality podcast episode.=0D=0A=
=0D=0A=
=0D=0A=
What You’ll Learn=0D=0A=
In this practical and interactive session, you will:=0D=0A=
=0D=0A=
    Understand the essential equipment and software needed for podcasting=0D=0A=
    Learn how to record and properly format audio=0D=0A=
    Gain hands-on experience editing audio, including adding music and effects=0D=0A=
    Learn how to export a polished, final podcast episode ready for publishing=0D=0A=
=0D=0A=
=0D=0A=
=0D=0A=
What You’ll Gain=0D=0A=
By the end of the session, you will:=0D=0A=
=0D=0A=
    Be confident using podcast recording and editing tools=0D=0A=
    Understand the full technical workflow of podcast production=0D=0A=
    Be able to produce a professional-sounding episode independently=0D=0A=
    Feel ready to publish high-quality content for your audience=0D=0A=
=0D=0A=
=0D=0A=
=0D=0A=
Who Is This For?=0D=0A=
This workshop is ideal for:=0D=0A=
=0D=0A=
    Small business owners and SMEs=0D=0A=
    Marketing professionals creating in-house content=0D=0A=
    Entrepreneurs ready to produce their own podcast=0D=0A=
    Anyone who wants hands-on experience with podcast production tools=0D=0A=
=0D=0A=
=0D=0A=
=0D=0A=
Session Format=0D=0A=
This session includes:=0D=0A=
=0D=0A=
    Hands-on technical workshop in a professional studio=0D=0A=
    Guided practical exercises=0D=0A=
    Real-time support and instruction=0D=0A=
=0D=0A=
=0D=0A=
=0D=0A=
Important Requirements=0D=0A=
To take part in this session, you must:=0D=0A=
=0D=0A=
    Bring your own laptop=0D=0A=
    Have permission to download and install free software during the session=0D=0A=
=0D=0A=
=0D=0A=
=0D=0A=
Hosted by Andrew – Podcast Host & Producer=0D=0A=
Andrew is a Podcast Host and Producer based in Northampton, specialising in the Health and Wellness genre since 2020. Through this workshop series, Andrew will guide you through the fundamentals of business podcasting—helping you determine if it's right for your business and how to do it effectively.=0D=0A=
Book Your Place=0D=0A=
Spaces are limited on these final 2 workshop to only 8 participants per session to ensure a high-quality, hands-on experience.=0D=0A=
Reserve your spot today and start producing your own professional podcast.=0D=0A=
=0D=0A=
=0D=0A=
=0D=0A=
** Please note that we may share your personal data as appropriate with event partners and that by registering for this event you are agreeing to your information being shared with our event partners, Andrew Bond=0D=0A=
The personal data shared is as follows – Name/Email/Phone=0D=0A=
Should you not want your personal data to be shared, please email: samantha.hunter@southmidlands.org.uk=0D=0A=
 
SUMMARY;ENCODING=QUOTED-PRINTABLE:Business Podcasting 101: Technical podcast production skills Vulcan Works 
PRIORITY:1
END:VEVENT
END:VCALENDAR
