BEGIN:VCALENDAR
PRODID:-//Microsoft Corporation//Outlook 11.0 MIMEDIR//EN
VERSION:1.0
BEGIN:VEVENT
DTSTART:20260624T083000Z
DTEND:20260624T123000Z
UID:1
DESCRIPTION;ENCODING=QUOTED-PRINTABLE:Part of the High Growth Readiness Programme=0D=0A=
Preparing Northamptonshire businesses for investment and scale=0D=0A=
Join us for a dynamic and celebratory morning marking a key milestone in Northamptonshire’s high-growth journey.=0D=0A=
The High Growth Showcase brings together founders, investors, partners, and ecosystem supporters to recognise the progress made through the High Growth Readiness Programme—and to spotlight the region’s most promising, investment-ready businesses.=0D=0A=
This is more than a showcase. It’s a moment where preparation meets opportunity—where ambitious founders connect with the people, insight, and capital that can help them scale.=0D=0A=
=0D=0A=
What to Expect=0D=0A=
=0D=0A=
    =0D=0A=
    A reflection on the progress and achievements of participating founders=0D=0A=
    =0D=0A=
    =0D=0A=
    Honest, behind-the-scenes insights into raising investment=0D=0A=
    =0D=0A=
    =0D=0A=
    Expert perspectives on what makes a business truly investor-ready=0D=0A=
    =0D=0A=
    =0D=0A=
    Live pitches from high-potential companies=0D=0A=
    =0D=0A=
    =0D=0A=
    Meaningful networking and warm introductions across the ecosystem=0D=0A=
    =0D=0A=
=0D=0A=
You’ll leave with a clearer understanding of the pathway to funding, stronger connections, and renewed confidence in the region’s high-growth potential.=0D=0A=
=0D=0A=
Featured Sessions=0D=0A=
Welcome & Programme Reflection=0D=0A=
An opening perspective on why supporting high-growth businesses matters—and the progress made in just four weeks.=0D=0A=
Fireside Conversation: The Founder Perspective What Raising Angel Investment Really Looks Like=0D=0A=
A candid discussion exploring the realities of fundraising, from traction and storytelling to timing and lessons learned from a real high-growth founder's perspective.=0D=0A=
Deep Dive: How to Succeed When Raising Angel investment, Luke Pulford, Minerva Business Angels=0D=0A=
Insights into what investors are really looking for, common pitfalls to avoid, and how to align your business and funding strategy from somebody who runs one of the UKs most active Angel groups.=0D=0A=
Founder Pitches=0D=0A=
Four selected businesses present their growth vision, followed by constructive and supportive Q&A with experienced voices.=0D=0A=
=0D=0A=
Who Should Attend=0D=0A=
=0D=0A=
    =0D=0A=
    Founders and leadership teams of high-growth businesses=0D=0A=
    =0D=0A=
    =0D=0A=
    Angel investors and funding partners=0D=0A=
    =0D=0A=
    =0D=0A=
    Ecosystem supporters and advisors=0D=0A=
    =0D=0A=
    SMEs committed to unlocking regional growth potential=0D=0A=
    =0D=0A=
=0D=0A=
=0D=0A=
The Showcase is just the beginning.=0D=0A=
Attendees will have the opportunity to continue conversations and explore next steps, including access to an exclusive follow-on workshop:=0D=0A=
Financial & Fundraising Strategy Workshop 30th June=0D=0A=
Delivered by a scale-up CFO, this session is designed for high-growth businesses preparing to raise investment.=0D=0A=
=0D=0A=
    =0D=0A=
    Practical guidance on funding options=0D=0A=
    =0D=0A=
    =0D=0A=
    Aligning business strategy with financial planning=0D=0A=
    =0D=0A=
    =0D=0A=
    Building investor confidence=0D=0A=
    =0D=0A=
=0D=0A=
Limited to 20 places=0D=0A=
=0D=0A=
Why Attend=0D=0A=
This event marks a transition—from readiness to real opportunity. It’s designed to create high-quality conversations, strengthen relationships, and reinforce Northamptonshire’s commitment to building and backing ambitious businesses.=0D=0A=
=0D=0A=
=0D=0A=
=0D=0A=
** Please note that we may share your personal data as appropriate with event partners and that by registering for this event you are agreeing to your information being shared with our event partners.=0D=0A=
The personal data shared is as follows – Name/Email/Phone=0D=0A=
Should you not want your personal data to be shared, please email: samantha.hunter@southmidlands.org.uk=0D=0A=
 
SUMMARY;ENCODING=QUOTED-PRINTABLE:High Growth Showcase: Unlocking Regional High Growth Ambitions Northampton Museum 
PRIORITY:1
END:VEVENT
END:VCALENDAR
