BEGIN:VCALENDAR
PRODID:-//Microsoft Corporation//Outlook 11.0 MIMEDIR//EN
VERSION:1.0
BEGIN:VEVENT
DTSTART:20260427T080000Z
DTEND:20260427T113000Z
UID:1
DESCRIPTION;ENCODING=QUOTED-PRINTABLE:This exclusive event offers a unique opportunity to connect directly with funders and investors from across the region.=0D=0A=
This session is designed to offer practical insights and build valuable connections — whether you're considering alternative funding options, exploring future opportunities, or simply looking to better understand the investment landscape.=0D=0A=
9am arrival =0D=0A=
930am Welcome & intro=0D=0A=
945am Spotlight speaker 1 – Aureum Finance=0D=0A=
10am Panel 1 – Early stage investment panel (Barclays, UK Export, Natwest, First Enterprise) =0D=0A=
1030am Spotlight speaker 2 – MadeSmarter Manufacturing =0D=0A=
1045am Panel 2 – Later stage investment panel (Maven, Funding Hero, TrackZero) =0D=0A=
1115am Final remarks =0D=0A=
1130 Meet the lenders =0D=0A=
1230 close  =0D=0A=
=0D=0A=
=0D=0A=
=0D=0A=
** Please note that we may share your personal data as appropriate with event partners and that by registering for this event you are agreeing to your information being shared with our event partners. =0D=0A=
The personal data shared is as follows – Name/Email/Phone=0D=0A=
Should you not want your personal data to be shared, please email: samantha.hunter@southmidlands.org.uk=0D=0A=
 
SUMMARY;ENCODING=QUOTED-PRINTABLE:Lenders Clinic MK Dons Stadium 
PRIORITY:1
END:VEVENT
END:VCALENDAR
