BEGIN:VCALENDAR
PRODID:-//Microsoft Corporation//Outlook 11.0 MIMEDIR//EN
VERSION:1.0
BEGIN:VEVENT
DTSTART:20241024T080000Z
DTEND:20241024T160000Z
UID:1
DESCRIPTION;ENCODING=QUOTED-PRINTABLE:The Hampshire Business Show is the region's largest and most effective B2B networking platform which attracts small, medium and large enterprises to connect, do business and collaborate.=0D=0A=
=0D=0A=
There will be industry-leading speakers, seminars, funding opportunities, and more! This is Hampshire’s premier event for meeting new clients and networking with the region's business leaders.
SUMMARY;ENCODING=QUOTED-PRINTABLE:The Hampshire Business Show Utilita Bowl
PRIORITY:1
END:VEVENT
END:VCALENDAR
