BEGIN:VCALENDAR
PRODID:-//Microsoft Corporation//Outlook 11.0 MIMEDIR//EN
VERSION:1.0
BEGIN:VEVENT
DTSTART:20210317T090000Z
DTEND:20210317T100000Z
UID:1
DESCRIPTION;ENCODING=QUOTED-PRINTABLE:This year, our MIPIM Embassy goes online.=0D=0A=
Joining instructions will be sent out closer to the event date.
SUMMARY;ENCODING=QUOTED-PRINTABLE:Derby City Embassy  Online
PRIORITY:1
END:VEVENT
END:VCALENDAR
