BEGIN:VCALENDAR
PRODID:-//Microsoft Corporation//Outlook 11.0 MIMEDIR//EN
VERSION:1.0
BEGIN:VEVENT
DTSTART:20220608T083000Z
DTEND:20220608T133000Z
UID:1
DESCRIPTION;ENCODING=QUOTED-PRINTABLE:This is the launch of the Solent Freeport and the Solent 2050 Strategy.=0D=0A=
=0D=0A=
The event will be live streamed. Please indicate if you plan to attend in person or to join online.=0D=0A=
After lunch, guests are invited to attend up to two short seminar sessions in support of the Solent’s aspirations, through the 2050 Strategy and the Freeport. These sessions will cover:=0D=0A=
•Solent 2050 Funding Opportunities=0D=0A=
•Amplifying Innovation=0D=0A=
•Future Skills for the Solent=0D=0A=
•The Solent’s Natural Capital=0D=0A=
Further information and registration for the sessions will be sent in due course.
SUMMARY;ENCODING=QUOTED-PRINTABLE:Solent Summit - book your in-person or online place here Horizon Cruise Terminal
PRIORITY:1
END:VEVENT
END:VCALENDAR
